BEGIN:VCALENDAR
VERSION:2.0
PRODID:-//Library Market//iCal Export//EN
BEGIN:VEVENT
SUMMARY:Recovery Cards Project
UID:13504
DTSTAMP:20260419T124500Z
DTSTART:20260517T190000Z
DTEND:20260517T200000Z
LOCATION:316 Garfield St., Grand Lake, CO 80447, United States
ROOM: Fireplace Area
DESCRIPTION: Hope Has Been Delivered!Are you looking for behavioral healt
 h resources for yourself or a loved one? Do you want to spread a little en
 couragement and hope?Join us for a short panel conversation about behavior
 al health resources for mental health and substance use disorder. Immediat
 ely following we&#039;ll have Recovery Cards available to send to a loved 
 one or to a stranger.
URL:https://gcld.librarycalendar.com/event/recovery-cards-project-13504
END:VEVENT
END:VCALENDAR
